BEGIN:VCALENDAR
VERSION:2.0
PRODID:-//Linneman&#039;s Riverwest Inn - ECPv6.15.3//NONSGML v1.0//EN
CALSCALE:GREGORIAN
METHOD:PUBLISH
X-WR-CALNAME:Linneman&#039;s Riverwest Inn
X-ORIGINAL-URL:https://linnemans.com
X-WR-CALDESC:Events for Linneman&#039;s Riverwest Inn
REFRESH-INTERVAL;VALUE=DURATION:PT1H
X-Robots-Tag:noindex
X-PUBLISHED-TTL:PT1H
BEGIN:VTIMEZONE
TZID:America/Chicago
BEGIN:DAYLIGHT
TZOFFSETFROM:-0600
TZOFFSETTO:-0500
TZNAME:CDT
DTSTART:20260308T080000
END:DAYLIGHT
BEGIN:STANDARD
TZOFFSETFROM:-0500
TZOFFSETTO:-0600
TZNAME:CST
DTSTART:20261101T070000
END:STANDARD
END:VTIMEZONE
BEGIN:VEVENT
DTSTART;TZID=America/Chicago:20260424T193000
DTEND;TZID=America/Chicago:20260424T223000
DTSTAMP:20260422T184418
CREATED:20260227T040347Z
LAST-MODIFIED:20260415T052645Z
UID:24458-1777059000-1777069800@linnemans.com
SUMMARY:Songwriter's Circle w/ Ricky Ganiere\, Jesse Thayer\, Lisa Ridgely\, & Scott Hanson * April 24\, 2026
DESCRIPTION:Milwaukee Songwriters in the Round: The Sapling Sessions. An Arbor Day celebration of staying rooted\, intentional growth and reaching for the sun and stars. Featuring local singer-songwriters Scott Hanson\, Ricky Ganiere\, Jess Thayer and Lisa Ridgely in an intimate\, casual night of story and song. Doors at 7\, music starts at 7:30. Featuring: \nRicky Ganiere: This is great songwriting weather! A hot cup of coffee\, a hoody and my guitar. Make sure and check out the tunes on ReverbNation and keep your eyes open for new Great Lake Drifters and my solo performances! \n \n\nWith a slow burning mix of keys\, voice and acoustic guitar\, Jess Thayer has been smiled upon by fate and played years with her dad’s blues duo and Milwaukee rock and folk staples. Her time with Blonde on Blonde\, Litmus Vinyl and Heidi Spencer and the Rare Birds has not only taken her across the Atlantic\, but to that beautiful place where jams\, lyrics and connection live in abundance. \n \n\nLongtime frontwoman of Milwaukee band The Fainting Room\, Lisa Ridgely is at home with an acoustic guitar and a microphone. Her original songwriting’s femme-forward style is rooted in the singer-songwriter tradition and influenced by her Midwestern upbringing\, hormones\, ‘80s pop\, ‘90s alternative\, and modern indie & Americana. \n \n\nScott Hanson writes from the heart\, performs from the soul. Since the early 2000s\, this Milwaukee-based singer/songwriter’s songs come to life with an aim to connect to you\, the listener\, in some way\, tangential or profound. Drawing from acoustic Americana\, folk\, rock\, “grew-up-in-the-90s\,” and lots of Petty\, Hanson’s performances are meaningful\, memorable\, and fun! \n \n\nDoors at 7;00\, Music at 7:30\, $10
URL:https://linnemans.com/event/songwriters-circle-w-ricky-ganiere-jesse-thayer-lisa-ridgely-scott-hanson-april-24-2026/
LOCATION:Linnemans\, 1001 E Locust St\, Milwaukee\, WI\, 53212\, United States
CATEGORIES:Live Music
ATTACH;FMTTYPE=image/jpeg:https://linnemans.com/wp-content/uploads/2026/02/SongWriterRickyScottJessLisaPosterLandscape042426.jpg
END:VEVENT
BEGIN:VEVENT
DTSTART;TZID=America/Chicago:20260425T190000
DTEND;TZID=America/Chicago:20260425T230000
DTSTAMP:20260422T184418
CREATED:20260227T044554Z
LAST-MODIFIED:20260419T073350Z
UID:24464-1777143600-1777158000@linnemans.com
SUMMARY:Bloom the Arctic w/ Killer High Life\, ourvanity and Rotundos * April 25\, 2026
DESCRIPTION:Bloom the Arctic is an Alternative/Reggae band split between Milwaukee and Madison\, Wisconsin. Formed in May 2025\, the band has been consistently writing music and is now preparing to release their debut album in June 2026. \n \n  \n\nFormed during the winter of 2023 in Milwaukee\, Killer High Life writes songs about heartbreak and despair as well as blistering fast songs about anger and aggression\, as a woman/queer individual living in our current era. Fusing elements of indie\, emo\, hardcore punk\, and dreamy rock\, Killer High Life creates an intense atmosphere perfect for both moshing and sobbing.\n\n\n\nRotundos is City Punk from Chicago Illinois. \n\n\n\n\n\n\nourvanity is an alt rock band from Milwaukee that blends sounds of nostalgia and a yearning for home. \n \n\n\n\n\n\n\nDoors at 6:00\, Music at 7:00\, $10
URL:https://linnemans.com/event/bloom-the-arctic-w-killer-high-life-ourvanity-and-rotundos-april-25-2026/
LOCATION:Linnemans\, 1001 E Locust St\, Milwaukee\, WI\, 53212\, United States
CATEGORIES:Live Music
ATTACH;FMTTYPE=image/jpeg:https://linnemans.com/wp-content/uploads/2026/02/BloomArticKiller-HighRotundosOurVanityPoster042526.jpg
END:VEVENT
BEGIN:VEVENT
DTSTART;TZID=America/Chicago:20260426T150000
DTEND;TZID=America/Chicago:20260426T173000
DTSTAMP:20260422T184418
CREATED:20260227T050322Z
LAST-MODIFIED:20260403T030042Z
UID:24468-1777215600-1777224600@linnemans.com
SUMMARY:Francesca & the Night Sky w/ Carter Hunnicut * April 26\, 2026
DESCRIPTION:Prolific songwriter Francesca played the Milwaukee area for years solo and as leader of the well-loved “Francesca and the 440 Hum”. \nFrancesca and guitarist Tom Plutshack were casually acquainted from the local music scene and when she booked a one-off show at Milwaukee’s long-running The Coffee House\, she asked Tom for help in putting a set together. \nDespite a difference in background (and maybe personality) the pieces fit together awfully well.  The one-off turned into the duo Francesca & Tom playing around town for couple years. \nFrancesca started wanting to bring up the energy and sound of their project and make it noisy and rude enough to fit comfortably into the rowdy bars where she felt most at home. [Ed.: Just kidding Frannie] \nTom turned to a couple skilled players he knew from earlier adventures in the cover band scene\, drummer Mike Farrow and bassist/multi-instrumentalist Larry Koehn. Again\, the pieces just fit. \n \n\nCarter Hunnicut is a long-time veteran of the Milwaukee music scene playing in iconic bands such as Those XCleavers.  In his new band\, The Swivels\, Carter is a multi-instrumentalist and songwriter. \n \n\nDoors at 2:00pm\, Music at 3;00PM\, $7
URL:https://linnemans.com/event/francesca-the-night-sky-w-carter-hunnicut-april-26-2026/
LOCATION:Linnemans\, 1001 E Locust St\, Milwaukee\, WI\, 53212\, United States
CATEGORIES:Live Music
ATTACH;FMTTYPE=image/jpeg:https://linnemans.com/wp-content/uploads/2026/02/FrancescatheNSCarterHunnecutPosterUpdate042626.jpg
END:VEVENT
BEGIN:VEVENT
DTSTART;TZID=America/Chicago:20260430T200000
DTEND;TZID=America/Chicago:20260430T230000
DTSTAMP:20260422T184418
CREATED:20260227T060438Z
LAST-MODIFIED:20260227T061217Z
UID:24475-1777579200-1777590000@linnemans.com
SUMMARY:Megan Jay w/ J. Killen\, & Wylie Jakobs * April 30\, 2026
DESCRIPTION:Megan Jay is a talented singer-songwriter from Wisconsin\, known for her soul-stirring blend of indie\, folk\, and Americana. Her music is characterized by a raw yet beautiful voice and a poetic songwriting style that deeply connects with listeners. Megan’s performances are a testament to her artistry\, leaving a lasting impression on every audience. She has been recognized for her unique blend of genres and her ability to craft songs that resonate with the emotional core of her listeners. \n \n\n  \nAfter a career shaped by years of touring in multiple projects\, some much-needed time away\, and a quiet return to songwriting\, Los Angeles-based artist J. Killen is released his much-anticipated debut album\, “Goin’ It Alone”\, on February 18th\, with a second full-length already completed and scheduled for a release later this year. His music blends country and folk influences with an unpolished\, honest delivery built for listening rooms. Fans of George Strait\, Waylon Jennings\, and ‘80s–‘90s country tend to connect quickly with the material. \n \n\nWylie Jakobs\, born Jake Wylie Hess\, is a Milwaukee musician known for his solo work under the “Wylie Jakobs” moniker. He has been active in the music scene since the early 2000s and has released several albums\, including “Unmarked Graves” and “Seven Days.” His music often reflects his personal experiences and emotions\, resonating with listeners through his storytelling and musical style. \n  \n \n\nDoors: 7pm\, Show: 8pm\, Cover: $10
URL:https://linnemans.com/event/megan-jay-w-j-killen-wylie-jakobs-april-30-2026/
LOCATION:Linnemans\, 1001 E Locust St\, Milwaukee\, WI\, 53212\, United States
CATEGORIES:Live Music
ATTACH;FMTTYPE=image/jpeg:https://linnemans.com/wp-content/uploads/2026/02/WylieJakobsJKillenMeganJayPoster043026.jpg
END:VEVENT
BEGIN:VEVENT
DTSTART;TZID=America/Chicago:20260501T200000
DTEND;TZID=America/Chicago:20260501T230000
DTSTAMP:20260422T184418
CREATED:20260415T051104Z
LAST-MODIFIED:20260415T051104Z
UID:24944-1777665600-1777676400@linnemans.com
SUMMARY:Dead Angel Disco w/ Sick Lilly\, & 10 Year Setback * May 1\, 2026
DESCRIPTION:Sick Lily is a punk rock band from Milwaukee\, Wisconsin\, known for their fresh\, juicy\, and angry sound. They have released their debut album\, “Independence Day\,” and their debut EP\, which is available for streaming. The band’s music can be discovered and streamed on various platforms\, including YouTube\, Spotify\, and Apple Music. \n \n\n10 Year Setback is MKE Midwest Emo/Math Rock. \n \n\nDEAD ANGEL DISCO is Groovy & Moody Noise from Milwaukee \n\nDoors at 7pm\, Music at 8pm\, $10
URL:https://linnemans.com/event/dead-angel-disco-w-sick-lilly-10-year-setback-may-1-2026/
LOCATION:Linnemans\, 1001 E Locust St\, Milwaukee\, WI\, 53212\, United States
CATEGORIES:Live Music
ATTACH;FMTTYPE=image/jpeg:https://linnemans.com/wp-content/uploads/2026/04/NoahAngelPic.jpg
END:VEVENT
BEGIN:VEVENT
DTSTART;TZID=America/Chicago:20260502T200000
DTEND;TZID=America/Chicago:20260502T233000
DTSTAMP:20260422T184418
CREATED:20260306T042508Z
LAST-MODIFIED:20260330T182408Z
UID:24544-1777752000-1777764600@linnemans.com
SUMMARY:The Bronswik Affair Album Release w/ Obscure Birds\, & The Daisy Pushers * May 2\, 2026
DESCRIPTION:The Bronswik Affair is a Milwaukee quartet committed to creating an abundant future of fist-pumping rock n roll enjoyment. Ask your doctor\, your mom\, or your coolest friend if The Bronswik Affair is right for you.  The band features:\nTom Groff\, vocals\, guitar\nBrian Johnston\, guitar\nSteve Nardelli\, bass\nJoolz Kaczmarek\, drums\nThey are purveyors of melodic\, cathartic\, energetic rock. \n \n\nObscure Birds:  3 musicians from the Milwaukee area got together in 2016 formed a band and recorded some material that was never officially released\, a 4th member joined. Some things happened\, An EP was Digitally released\, and a full-length CD “Hatch” was physically released. They are still a band today. \n \n\nFormed by guitarist\, Chris White and vocalist\, Shadoe Costa in the latter of 2008\, The Daisy Pushers are an eclectic mix of hard rocking riffs with a psychobilly twang and a Waitsy-Alice in Chains influenced melody. Bringing up the back bone and pumping blood into the veins of this unique group are bassist\, Brett Peloquin\, rhythm guitarist\, Matt Ward and drummer\, Max Gomez. \n \n\nDoors at 7;00pm\, Music at 8:00pm\, $10
URL:https://linnemans.com/event/the-bronswik-affair-album-release-w-obscure-birds-the-daisy-pushers-may-2-2026/
LOCATION:Linnemans\, 1001 E Locust St\, Milwaukee\, WI\, 53212\, United States
CATEGORIES:Live Music
ATTACH;FMTTYPE=image/jpeg:https://linnemans.com/wp-content/uploads/2026/03/BronswikAffairPoster050226Update.jpg
END:VEVENT
BEGIN:VEVENT
DTSTART;TZID=America/Chicago:20260507T193000
DTEND;TZID=America/Chicago:20260507T223000
DTSTAMP:20260422T184418
CREATED:20260306T201702Z
LAST-MODIFIED:20260306T201702Z
UID:24561-1778182200-1778193000@linnemans.com
SUMMARY:Drive-A-Tron w/ Creature Weather\, & Vanity Plates * May 7\, 2026
DESCRIPTION:Drive-a-tron is an indie-rock/dance band mixing together heavy grooves\, unexpected harmonies\, pulsing keyboards\, and poly-rhythmic lyrics as ingredients in a joyous musical burrito. Lightweight and easy to pack\, Drive-a-tron is typically run by one person (Paul Vash – Madison\, WI) who writes the songs\, plays the instruments\, makes the videos\, and changes the oil. \nDancing\, sweating\, and joy are the goals of Drive-a-tron\, but a closer look at the song lyrics may surprise you with stories of complex characters and situations. The excitement of the music comes through on stage with Paul performing on different instruments\, often with synced videos and friends\, and encouraging audience members to join in. Everyone who attends a Drive-a-tron show is invited to be “in the band”. \n \n\n“Down-the-street Milwaukee neighbors” Tad Jameyfield and John Doyle\, whose affinity for experimental pop became the common ground on which they built their Creature Weather project. Jameyfield’s affection for ’60s bands like The Zombies and The Buckinghams is all over their music. The weathered piano\, echoey vocals and harmonies set a tone.  – Radio Milwaukee- \n \n\nVanity Plates  – post-butt-rock for fans of Jeopardy but not the college tournament!! Three-piece rock band from Milwaukee\, WI featuring Pete Ciolino on bass\, Shane Timm on drums\, and Alex Shah on guitar and vocals.\n \nDoors at 7:00pm\, Music at 7:30\, $10
URL:https://linnemans.com/event/drive-a-tron-w-creature-weather-vanity-plates-may-7-2026/
LOCATION:Linnemans\, 1001 E Locust St\, Milwaukee\, WI\, 53212\, United States
CATEGORIES:Live Music
ATTACH;FMTTYPE=image/jpeg:https://linnemans.com/wp-content/uploads/2026/03/DriveATronCreatureVanityPlatesPosterSquare050726.jpg
END:VEVENT
BEGIN:VEVENT
DTSTART;TZID=America/Chicago:20260508T200000
DTEND;TZID=America/Chicago:20260508T230000
DTSTAMP:20260422T184418
CREATED:20260327T211216Z
LAST-MODIFIED:20260415T055513Z
UID:24777-1778270400-1778281200@linnemans.com
SUMMARY:Rock for Hong Fundraiser * May 8\, 2026
DESCRIPTION:Rock for Hong Fundraiser \nStart time: doors at 7\, show at 8 \nCost: $10 at the door \nPerformers: Ryan Mason\, Mostly\, Orange Drink\, Dave Purcell and the Contradictions \n  \nFrancesca Hong is a mom\, service worker\, chef\, and community organizer. The daughter of immigrants and a proud Madisonian\, a Democratic state representative and democratic socialist. She built her life from the dish pit to the State Legislature—always fighting for working families like hers. Now she’s running for governor to build a Wisconsin where everyone has a seat at the table. \nFran isn’t taking a dime from corporate PACs—this is a grassroots campaign\, powered by working people. Every contribution helps us build a Wisconsin that works for everyone. Learn more at https://francescahong.com/. \n \nDoors at 7\, Show at 8\, $10 at the door
URL:https://linnemans.com/event/rock-for-hong-fundraiser-may-8-2026/
LOCATION:Linnemans\, 1001 E Locust St\, Milwaukee\, WI\, 53212\, United States
CATEGORIES:Live Music,Other
ATTACH;FMTTYPE=image/jpeg:https://linnemans.com/wp-content/uploads/2026/03/RockForHongFundraiserPoster050826.jpg
END:VEVENT
BEGIN:VEVENT
DTSTART;TZID=America/Chicago:20260509T200000
DTEND;TZID=America/Chicago:20260509T230000
DTSTAMP:20260422T184418
CREATED:20260318T010149Z
LAST-MODIFIED:20260415T061309Z
UID:24652-1778356800-1778367600@linnemans.com
SUMMARY:Bluejae w/ Rob Sender * May 9\, 2026
DESCRIPTION:The voice between worlds—channeling the energy of air and water through indie soul\, folk\, and poetic flow. Blujae’s music is a sacred space for vulnerability\, joy\, and remembrance of unconditional love. Rooted in authenticity and guided by freedom\, Blujae \n \n\nRobbie Sender is a Milwaukee based singer songwriter\, blending elements of country\, folk\, and roots music with punchy and poetic storytelling. Making his debut in 2025\, he has since found himself welcomed with open arms by the traditional country community\, the folk-punks\, and everyone in between. Lyricism lies at the heart of his music\, drawing on influences like Townes Van Zandt\, Luke Bell\, Conor Oberst\, and is quick to quote Tom Waits: “I like to think that my main instrument is vocabulary”. Raised on pop-punk and Patsy Cline\, he leans on the ancient wisdom of the greats – four chords and the truth. \n \n\nJ.R. Wesley is an independent musician from Milwaukee\, Wisconsin\, known for blending folk\, indie\, and roots-inspired sounds into his music. Wesley’s work spans acoustic storytelling\, folk ballads\, and indie-roots arrangements\, often drawing on personal and narrative themes. His music is available for streaming and purchase via Bandcamp and other platforms jrwesley.bandcamp.com+1. He has released an EP titled Indiana (deluxe)\, which includes tracks like “don’t count him out” \n \n\nPremiere Milwaukee Poet Kavon Cortez Jones has joined the bill! \n\nDoors at 7:00pm\, Music at 8:00pm\, $5
URL:https://linnemans.com/event/bluejae-w-rob-sender-may-9-2026/
LOCATION:Linnemans\, 1001 E Locust St\, Milwaukee\, WI\, 53212\, United States
CATEGORIES:Live Music
ATTACH;FMTTYPE=image/jpeg:https://linnemans.com/wp-content/uploads/2026/03/BlujaeRobSenderJRWesleyKavonPoster040926.jpg
END:VEVENT
BEGIN:VEVENT
DTSTART;TZID=America/Chicago:20260514T200000
DTEND;TZID=America/Chicago:20260514T230000
DTSTAMP:20260422T184418
CREATED:20260318T011433Z
LAST-MODIFIED:20260318T011433Z
UID:24655-1778788800-1778799600@linnemans.com
SUMMARY:Sushi Cowboy w/ TBA * May 14\, 2026
DESCRIPTION:Sushi Cowboy is an energetic rock band hailing from Milwaukee\, WI. Their music blends elements of blues\, alternative\, indie\, folk\, and classic rock. The band consists of the following talented members: \n\nEvan Hummer: Keyboards\nDave Williams: Drums\nNoah Rueckl: Bass\, vocals\nJake Ringelstetter: Rhythm guitar\, vocals\nBrandon Messmer: Lead guitar\, vocals\n\n \n  \n\nw/ TBA \nDoors at 7:00pm\, Music at 8:00pm\, $10
URL:https://linnemans.com/event/sushi-cowboy-w-tba-may-14-2026/
LOCATION:Linnemans\, 1001 E Locust St\, Milwaukee\, WI\, 53212\, United States
CATEGORIES:Live Music
ATTACH;FMTTYPE=image/jpeg:https://linnemans.com/wp-content/uploads/2023/03/SushiCowboy.jpg
END:VEVENT
BEGIN:VEVENT
DTSTART;TZID=America/Chicago:20260515T190000
DTEND;TZID=America/Chicago:20260515T230000
DTSTAMP:20260422T184418
CREATED:20260318T011942Z
LAST-MODIFIED:20260402T202707Z
UID:24658-1778871600-1778886000@linnemans.com
SUMMARY:Luke Callen Album Release w/ Dandy Freling * May 15\, 2026
DESCRIPTION:Luke Callen is a songwriter – singer – instrumentalist and poet who spends most of his time living in the Upper Midwest – where the prairie meets the big woods and the rivers all run to the Mississippi. He will be releasing his latest Album – “Fool’s Spring” – on April 1st 2026. \nRecorded in a small cabin in Northern Wisconsin by Milwaukee’s own Will Hansen (Old Pup) – featuring three improvised instrumental pieces – field recordings of birds in Arkansas – Missouri – and Wisconsin – topical – personal and tongue in cheek songwriting – alongside ethereal fingerstyle and Travis style fingerpicking – accompanied by Pedal Steel – Bass – Electric Guitar – Drums – Percussion – Sounds – and Harmony Singers. \nOutside of music – Luke enjoys tending to his garden – communing with the natural world – propagating and distributing Native wildflowers and Woody shrubs – and playing in and around water. \nwebsite: www.lukecallen.com \nInstagram: www.instagram.com/_lukecallen_ \nBandcamp: https://lukecallenmusic.bandcamp.com/ \n \n\nDandy Freling is a boot-stompin’\, finger-pickin’ folkie hailing from Milwaukee\, Wisconsin — a troubadour with one foot in the dust of the past and the other planted firmly on a wooden stage somewhere down the road. Drawing from the high and lonesome hollers of the old-time greats\, Dandy channels the raw spirit of traditional American folk and country\, weaving it together with her own down-home storytelling and rough-hewn charm.  Armed with a well-worn guitar\, a voice that carries both grit and grace\, and a knack for songwriting that cuts straight to the bone\, Freling captures the heart of the wandering soul. \nWebsite: https://www.dandyfreling.com/ \nYoutube: https://www.youtube.com/@dandyl.freling467/videos \nBandcamp: https://dandylfreling.bandcamp.com/ \nInstagram: https://www.instagram.com/dandyfreling/ \nFacebook: https://www.facebook.com/dandy.l.freling/ \n \n\nDoors at 7:00pm\, Music at 8:00pm\, $10
URL:https://linnemans.com/event/luke-callen-album-release-w-dandy-freling-may-15-2026/
LOCATION:Linnemans\, 1001 E Locust St\, Milwaukee\, WI\, 53212\, United States
CATEGORIES:Live Music
ATTACH;FMTTYPE=image/jpeg:https://linnemans.com/wp-content/uploads/2026/03/LukeCallenDandyFrelingPoster051526Square.jpg
END:VEVENT
BEGIN:VEVENT
DTSTART;TZID=America/Chicago:20260516T200000
DTEND;TZID=America/Chicago:20260516T230000
DTSTAMP:20260422T184418
CREATED:20260318T013932Z
LAST-MODIFIED:20260422T194424Z
UID:24660-1778961600-1778972400@linnemans.com
SUMMARY:Afterbirth Cartoons w/ Bloom the Arctic\, & Glitzy * May 16\, 2026
DESCRIPTION:Afterbirth Cartoons is a steady explosion of sardonic beat punk influenced by everything from Nirvana and the Dead Kennedys to Tenacious D and the Beat Generation. Their music is straight-forward\, earnest\, and biting as they strike out at the world.\n\n\n\n\nBloom the Arctic is an Alternative/Reggae band split between Milwaukee and Madison\, Wisconsin. Formed in May 2025\, the band has been consistently writing music and is now preparing to release their debut album in June 2026.\n\n\nGlitzy has joined the bill as well! \n\nDoors at 8:00pm\, Music at 9:00pm\, $10
URL:https://linnemans.com/event/afterbirth-cartoons-w-bloom-the-arctic-glitzy-may-16-2026/
LOCATION:Linnemans\, 1001 E Locust St\, Milwaukee\, WI\, 53212\, United States
CATEGORIES:Live Music
ATTACH;FMTTYPE=image/jpeg:https://linnemans.com/wp-content/uploads/2026/03/AfterbirthCartoonsBloomArcticGlitzyPoster051626-1.jpg
END:VEVENT
BEGIN:VEVENT
DTSTART;TZID=America/Chicago:20260522T200000
DTEND;TZID=America/Chicago:20260522T233000
DTSTAMP:20260422T184418
CREATED:20260318T022929Z
LAST-MODIFIED:20260325T224356Z
UID:24664-1779480000-1779492600@linnemans.com
SUMMARY:Courtesy Call w/ The Rest\, & The Night Painters * May 22\, 2026
DESCRIPTION:Courtesy Call is toll free psychedelic indie! \n \n\nThe Rest is a band based in Madison\, WI – Electro Lobotomy Collective \n \n\nThe Night Painters are an indie rock band. \n \n\nDoors at 7:00pm\, Music at 8:00pm\, $10
URL:https://linnemans.com/event/courtesy-call-w-the-rest-the-night-painters-may-22-2026/
LOCATION:Linnemans\, 1001 E Locust St\, Milwaukee\, WI\, 53212\, United States
CATEGORIES:Live Music
ATTACH;FMTTYPE=image/jpeg:https://linnemans.com/wp-content/uploads/2026/03/CourtesyCallTheRestNightPaintersPoster052226.jpg
END:VEVENT
BEGIN:VEVENT
DTSTART;TZID=America/Chicago:20260523T200000
DTEND;TZID=America/Chicago:20260523T233000
DTSTAMP:20260422T184418
CREATED:20260318T024559Z
LAST-MODIFIED:20260415T203252Z
UID:24670-1779566400-1779579000@linnemans.com
SUMMARY:Waterspouts Album Release w/ Heavy Bend\, & Teenage Ice Age * May 23\, 2026
DESCRIPTION:Waterspouts is an Alt-Country/Rock band from Milwaukee\, influenced by artists such as Uncle Tupelo\, David Berman\, and Neil Young. Featuring both introspective lyrics and fuzzed out riffs\, they are a celebration of the best parts of the genre. \n \n\nHeavy Bend and Teenage Ice Age have joined the bill \n\nDoors at 7:00pm\, Music at 8:00pm\, $10
URL:https://linnemans.com/event/waterspouts-album-release-w-heavy-bend-teenage-ice-age-may-23-2026/
LOCATION:Linnemans\, 1001 E Locust St\, Milwaukee\, WI\, 53212\, United States
CATEGORIES:Live Music
ATTACH;FMTTYPE=image/jpeg:https://linnemans.com/wp-content/uploads/2026/03/WaterspoutsReleaseHeavyBendTeenageIceAgePoster052326.jpg
END:VEVENT
BEGIN:VEVENT
DTSTART;TZID=America/Chicago:20260524T150000
DTEND;TZID=America/Chicago:20260524T183000
DTSTAMP:20260422T184418
CREATED:20260318T025709Z
LAST-MODIFIED:20260318T025709Z
UID:24673-1779634800-1779647400@linnemans.com
SUMMARY:“Peace thru Music” – A John Lennon Tribute w/ many acts! * May 24\, 2026
DESCRIPTION:The music of John Lennon comes to life with many of Milwaukee’s finest musical acts taking part to help raise awareness for sensible gun laws. Benefit for Wisconsin’s Anti Violence Effort (WAVE) & The National Brady Campaign to Prevent Gun Violence! Join us for this always fun night of great music by one of the masters! \nDoors @ 2pm\, show @ 3pm.  $15 donation goes to WAVE & The Brady Campaign!  The event will include a fundraising raffle by Wisconsin Anti Violence Effort (WAVE) that will include some fantastic items! \nActs/Performers announced soon.
URL:https://linnemans.com/event/peace-thru-music-a-john-lennon-tribute-w-many-acts-may-24-2026/
LOCATION:Linnemans\, 1001 E Locust St\, Milwaukee\, WI\, 53212\, United States
CATEGORIES:Live Music
ATTACH;FMTTYPE=image/jpeg:https://linnemans.com/wp-content/uploads/2017/03/john-lennon-2.jpg
END:VEVENT
BEGIN:VEVENT
DTSTART;TZID=America/Chicago:20260529T193000
DTEND;TZID=America/Chicago:20260529T220000
DTSTAMP:20260422T184418
CREATED:20260318T040143Z
LAST-MODIFIED:20260416T190317Z
UID:24675-1780083000-1780092000@linnemans.com
SUMMARY:Crow Eater w/ Chet Garrett\, & Keshena Armon * May 29\, 2026
DESCRIPTION:Crow Eater is a Country-Fried Folk-Rock music thought form perpetrated by Wisconsin based musician and artist Jaems Murphy.​ At its core\, Crow Eater is the sound of a rootsy folk country inspired rowdy American heartbeat rolling down from the mountains and across the land. Jaems crafted songs and stories telling tales of hard times\, bad luck and heartbreak with a sly sense of humor; using words and taking inspiration from the writings of Charles Brokenson\, a near mythic figure from obscure American folk lore and legend. \n \n\nChet Garrett is a Milwaukee songwriter. \n\nKeshena Armon: Passionate musician specializing in rock piano\, inspirational\, and good-vibes only tunes for weddings\, festivals\, concerts & private events. \n \n  \n\n​Doors at 6:30\, Music at 7:30\, $10 or $15 for two.
URL:https://linnemans.com/event/crow-eater-w-chet-garrett-keshena-armon-may-29-2026/
LOCATION:Linnemans\, 1001 E Locust St\, Milwaukee\, WI\, 53212\, United States
CATEGORIES:Live Music
ATTACH;FMTTYPE=image/jpeg:https://linnemans.com/wp-content/uploads/2026/03/CrowEaterPoster052926.jpg
END:VEVENT
BEGIN:VEVENT
DTSTART;TZID=America/Chicago:20260530T200000
DTEND;TZID=America/Chicago:20260530T200000
DTSTAMP:20260422T184418
CREATED:20260416T205722Z
LAST-MODIFIED:20260416T205722Z
UID:24978-1780171200-1780171200@linnemans.com
SUMMARY:Sapsucker w/ Breakup Tour * May 30\, 2026
DESCRIPTION:Sapsucker is excitable\, expressive\, high energy\, and full of vim and vigor. Chirpy guitars and ample hooks meet a bouncing and tumbling rhythm section in our ecstatic mixture of pop and rock; we don’t stop jumping\, dancing\, and smiling once we start\, and we bet you’ll be doing the same! \n \n\nBreakup Tour is a Milwaukee-based bubble grunge supergroup formed by four friends over the 2020 pandemic.  The band includes Nat Otto [Man Random] on drums\, Sam Schrader [Bureaucratic Drift] on guitar\, D.H. Thomas [The Unitaskers] on guitar and omnichord\, and Amy Upthagrove [June Gloom\, Beach Static\, Intolerable Swill] on bass. \n \n\nMore TBA \n\nDoors at 7:00pm\, Music at 8:00pm\, $TBA
URL:https://linnemans.com/event/sapsucker-w-breakup-tour-may-30-2026/
LOCATION:Linnemans\, 1001 E Locust St\, Milwaukee\, WI\, 53212\, United States
CATEGORIES:Live Music
ATTACH;FMTTYPE=image/jpeg:https://linnemans.com/wp-content/uploads/2026/04/SapsuckerPic-1.jpg
END:VEVENT
END:VCALENDAR